{ "currentVersion": 11.3, "cimVersion": "3.3.0", "serviceDescription": "
A statewide mosaic of Minnesota\u2019s original Public Land Survey plats. These are often referred as the General Land Office (GLO) plats or maps. Produced by Foth Infrastructure & Environment, LLC Eagle Point II 8550 Hudson Boulevard North, Suite 100 Lake Elmo, MN 55042 for the Minnesota Department of Transportation (MnDOT).<\/SPAN><\/P><\/DIV>",
"mapName": "MN_GLO_Plats",
"description": " A statewide mosaic of Minnesota\u2019s original Public Land Survey plats. These are often referred as the General Land Office (GLO) plats or maps. Produced by Foth Infrastructure & Environment, LLC Eagle Point II 8550 Hudson Boulevard North, Suite 100 Lake Elmo, MN 55042 for the Minnesota Department of Transportation (MnDOT).<\/SPAN><\/P><\/DIV>",
"copyrightText": "MNGeo, MNDOT, Foth",
"supportsDynamicLayers": true,
"layers": [
{
"id": 0,
"name": "Minnesota_GLO",
"parentLayerId": -1,
"defaultVisibility": true,
"subLayerIds": null,
"minScale": 0,
"maxScale": 0,
"type": "Raster Layer",
"supportsDynamicLegends": true
}
],
"tables": [],
"spatialReference": {
"wkid": 26915,
"latestWkid": 26915,
"xyTolerance": 0.001,
"zTolerance": 0.001,
"mTolerance": 0.001,
"falseX": -5120900,
"falseY": -9998100,
"xyUnits": 10000,
"falseZ": -100000,
"zUnits": 10000,
"falseM": -100000,
"mUnits": 10000
},
"singleFusedMapCache": true,
"tileInfo": {
"rows": 512,
"cols": 512,
"dpi": 96,
"format": "JPEG",
"compressionQuality": 50,
"origin": {
"x": 165000,
"y": 5500000
},
"spatialReference": {
"wkid": 26915,
"latestWkid": 26915,
"xyTolerance": 0.001,
"zTolerance": 0.001,
"mTolerance": 0.001,
"falseX": -5120900,
"falseY": -9998100,
"xyUnits": 10000,
"falseZ": -100000,
"zUnits": 10000,
"falseM": -100000,
"mUnits": 10000
},
"lods": [
{
"level": 0,
"resolution": 33.86673440013547,
"scale": 128000
},
{
"level": 1,
"resolution": 16.933367200067735,
"scale": 64000
},
{
"level": 2,
"resolution": 8.466683600033868,
"scale": 32000
},
{
"level": 3,
"resolution": 4.233341800016934,
"scale": 16000
},
{
"level": 4,
"resolution": 2.116670900008467,
"scale": 8000
}
]
},
"storageInfo": {
"storageFormat": "esriMapCacheStorageModeCompactV2",
"packetSize": 128
},
"initialExtent": {
"xmin": 151082.0055399335,
"ymin": 4716455.403909117,
"xmax": 808868.5461416147,
"ymax": 5506752.566458093,
"spatialReference": {
"wkid": 26915,
"latestWkid": 26915,
"xyTolerance": 0.001,
"zTolerance": 0.001,
"mTolerance": 0.001,
"falseX": -5120900,
"falseY": -9998100,
"xyUnits": 10000,
"falseZ": -100000,
"zUnits": 10000,
"falseM": -100000,
"mUnits": 10000
}
},
"fullExtent": {
"xmin": 181008.47652827585,
"ymin": 4815618.1328959,
"xmax": 761663.2620396413,
"ymax": 5472415.177704519,
"spatialReference": {
"wkid": 26915,
"latestWkid": 26915,
"xyTolerance": 0.001,
"zTolerance": 0.001,
"mTolerance": 0.001,
"falseX": -5120900,
"falseY": -9998100,
"xyUnits": 10000,
"falseZ": -100000,
"zUnits": 10000,
"falseM": -100000,
"mUnits": 10000
}
},
"datesInUnknownTimezone": false,
"minScale": 128000,
"maxScale": 8000,
"minLOD": 0,
"maxLOD": 4,
"units": "esriMeters",
"supportedImageFormatTypes": "PNG32,PNG24,PNG,JPG,DIB,TIFF,EMF,PS,PDF,GIF,SVG,SVGZ,BMP",
"documentInfo": {
"Title": "MN GLO Plats",
"Author": "",
"Comments": " A statewide mosaic of Minnesota\u2019s original Public Land Survey plats. These are often referred as the General Land Office (GLO) plats or maps. Produced by Foth Infrastructure & Environment, LLC Eagle Point II 8550 Hudson Boulevard North, Suite 100 Lake Elmo, MN 55042 for the Minnesota Department of Transportation (MnDOT).<\/SPAN><\/P><\/DIV>",
"Subject": "A statewide mosaic of Minnesota\u2019s original Public Land Survey plats.",
"Category": "",
"Version": "2.9.0",
"AntialiasingMode": "Fast",
"TextAntialiasingMode": "Force",
"Keywords": "Public Land Survey System,PLSS,General Land Office,GLO,plats"
},
"supportsQueryDomains": true,
"capabilities": "Map,Query,Data",
"supportedQueryFormats": "JSON, geoJSON, PBF",
"exportTilesAllowed": false,
"referenceScale": 0.0,
"supportsDatumTransformation": true,
"archivingInfo": {"supportsHistoricMoment": false},
"supportsClipping": true,
"supportsSpatialFilter": true,
"supportsTimeRelation": true,
"supportsQueryDataElements": true,
"mapUnits": {"uwkid": 9001},
"maxRecordCount": 2000,
"maxImageHeight": 4096,
"maxImageWidth": 4096,
"supportedExtensions": "WMSServer"
}